BEGIN:VCALENDAR
VERSION:2.0
PRODID:-//Liongard//EN
CALSCALE:GREGORIAN
BEGIN:VEVENT
UID:8287@www.liongard.com
DTSTAMP:20260424T015914Z
DTSTART:20260809T090000Z
DTEND:20260811T090000Z
SUMMARY:XChange August
DESCRIPTION:https://www.liongard.com/event/xchange-august/
URL:https://www.liongard.com/event/xchange-august/
END:VEVENT
END:VCALENDAR
